BEGIN:VCALENDAR
VERSION:2.0
PRODID:-//Kappa Alpha Psi Foundation - ECPv6.15.18//NONSGML v1.0//EN
CALSCALE:GREGORIAN
METHOD:PUBLISH
X-ORIGINAL-URL:https://thekappafoundation.org
X-WR-CALDESC:Events for Kappa Alpha Psi Foundation
REFRESH-INTERVAL;VALUE=DURATION:PT1H
X-Robots-Tag:noindex
X-PUBLISHED-TTL:PT1H
BEGIN:VTIMEZONE
TZID:UTC
BEGIN:STANDARD
TZOFFSETFROM:+0000
TZOFFSETTO:+0000
TZNAME:UTC
DTSTART:20240101T000000
END:STANDARD
END:VTIMEZONE
BEGIN:VEVENT
DTSTART;TZID=UTC:20250703T180000
DTEND;TZID=UTC:20250703T220000
DTSTAMP:20260423T131115
CREATED:20250222T031713Z
LAST-MODIFIED:20250318T125331Z
UID:6408-1751565600-1751580000@thekappafoundation.org
SUMMARY:Celebration of Achievement Gala
DESCRIPTION:The Celebration of Achievement is an annual event hosted by the Kappa Alpha Psi Foundation. The four main objectives of the event are to celebrate success\, honor achievement\, inspire action\, and invest in the community. \nThis year\, we are excited to present the inaugural Celebration of Achievement Gala! Presented by The Kappa Alpha Psi Foundation\, this prestigious event brings together leaders\, visionaries\, and supporters to celebrate excellence\, achievement\, and the power of community. Join us in Phoenix\, Arizona\, on Thursday\, July 3\, 2025\, as we honor remarkable individuals and amplify efforts to uplift and support our youth. \nThe evening will feature an elegant experience that will both inspire and entertain. You will definitely not want to miss this event. Mark your calendars and join us as we celebrate achievement and build a brighter future for our youth. Registration for the 2025 Celebration of Achievement Gala will open soon. \nDownload the Sponsorship Brochure here\, or by clicking the Gala image below. \nRegistration is now open! Get your tickets today by visiting our Celebration of Achievement Gala event site!
URL:https://thekappafoundation.org/event/celebration-of-achievement-gala/
ATTACH;FMTTYPE=image/png:https://thekappafoundation.org/wp-content/uploads/2025/02/Save-the-Date_25-Kappa-Foundation-COA-V2-3-1325x2048-1.png
END:VEVENT
BEGIN:VEVENT
DTSTART;VALUE=DATE:20250401
DTEND;VALUE=DATE:20250516
DTSTAMP:20260423T131115
CREATED:20250401T154347Z
LAST-MODIFIED:20250401T160010Z
UID:6510-1743465600-1747353599@thekappafoundation.org
SUMMARY:2025 Scholarship Application Process Opens
DESCRIPTION:The 2025 Foundation Scholarship application process is now open. The deadline to apply is Thursday\, May 15\, 2025. \nThe Foundation Scholarships are merit-based and awarded to qualified students with consideration of financial need. Scholarships are open to high school and college students across the country. All recipients shall be in pursuit of a baccalaureate degree from an accredited college or university\, as described by the respective scholarship criteria. Most scholarships are for one year and are non-renewable unless otherwise indicated in the award description. \nAccess the scholarship portal at https://scholarships.thekappafoundation.org/Default.asp. \nThe scholarship portal will close at 11:59 p.m.\, EST on Thursday\, May 15\, 2025.
URL:https://thekappafoundation.org/event/2025-scholarship-application-process/
ATTACH;FMTTYPE=image/png:https://thekappafoundation.org/wp-content/uploads/2025/04/kappa-alpha-psi-foundation-8.png
END:VEVENT
END:VCALENDAR